BEGIN:VCALENDAR
VERSION:2.0
PRODID:-//Ford&#039;s Chapel - ECPv6.15.20//NONSGML v1.0//EN
CALSCALE:GREGORIAN
METHOD:PUBLISH
X-WR-CALNAME:Ford&#039;s Chapel
X-ORIGINAL-URL:https://fordschapel.org
X-WR-CALDESC:Events for Ford&#039;s Chapel
REFRESH-INTERVAL;VALUE=DURATION:PT1H
X-Robots-Tag:noindex
X-PUBLISHED-TTL:PT1H
BEGIN:VTIMEZONE
TZID:America/Chicago
BEGIN:DAYLIGHT
TZOFFSETFROM:-0600
TZOFFSETTO:-0500
TZNAME:CDT
DTSTART:20250309T080000
END:DAYLIGHT
BEGIN:STANDARD
TZOFFSETFROM:-0500
TZOFFSETTO:-0600
TZNAME:CST
DTSTART:20251102T070000
END:STANDARD
BEGIN:DAYLIGHT
TZOFFSETFROM:-0600
TZOFFSETTO:-0500
TZNAME:CDT
DTSTART:20260308T080000
END:DAYLIGHT
BEGIN:STANDARD
TZOFFSETFROM:-0500
TZOFFSETTO:-0600
TZNAME:CST
DTSTART:20261101T070000
END:STANDARD
BEGIN:DAYLIGHT
TZOFFSETFROM:-0600
TZOFFSETTO:-0500
TZNAME:CDT
DTSTART:20270314T080000
END:DAYLIGHT
BEGIN:STANDARD
TZOFFSETFROM:-0500
TZOFFSETTO:-0600
TZNAME:CST
DTSTART:20271107T070000
END:STANDARD
END:VTIMEZONE
BEGIN:VEVENT
DTSTART;TZID=America/Chicago:20260514T180000
DTEND;TZID=America/Chicago:20260514T190000
DTSTAMP:20260421T183129
CREATED:20260415T170259Z
LAST-MODIFIED:20260415T170301Z
UID:14630-1778781600-1778785200@fordschapel.org
SUMMARY:FCLC Kindergarten Graduation
DESCRIPTION:Come celebrate our incredible Kindergarten students as they mark this exciting milestone! Our graduates have grown in confidence\, curiosity\, and character this year\, and we can’t wait to cheer them on as they take this next big step. \n\n\n\nFamilies and friends are invited to enjoy a joyful program filled with smiles\, songs\, and proud moments — the perfect send‑off as our Kindergarteners head into their next chapter.
URL:https://fordschapel.org/event/fclc-kindergarten-graduation/
ATTACH;FMTTYPE=image/jpeg:https://fordschapel.org/wp-content/uploads/2026/04/Kinder-Graduation.jpeg
END:VEVENT
BEGIN:VEVENT
DTSTART;TZID=America/Chicago:20260622T180000
DTEND;TZID=America/Chicago:20260626T203000
DTSTAMP:20260421T183129
CREATED:20260212T152522Z
LAST-MODIFIED:20260420T142955Z
UID:14500-1782151200-1782505800@fordschapel.org
SUMMARY:VBS - ROME: Paul and the Underground Church
DESCRIPTION:Register NOW!\n\n\n\n\n\n\n\n\n\nJoin us for VBS this summer\, where the Bible comes to life right before your eyes! At Rome VBS\, everyone gets to explore first-hand the culture of Paul’s world. They’ll experience the heartbreaking trials\, joyous victories\, and tear-filled celebrations of this unique Bible hero. \n\n\n\nGod’s Word comes alive as families enjoy traditional Bible-times customs\, occupations\, food\, and even games!
URL:https://fordschapel.org/event/vbs-rome-paul-and-the-underground-church/
ATTACH;FMTTYPE=image/png:https://fordschapel.org/wp-content/uploads/2026/02/2026-VBS-save-the-date-with-time.png
END:VEVENT
END:VCALENDAR